BEGIN:VCALENDAR
VERSION:2.0
PRODID:spatie/icalendar-generator
DESCRIPTION:Events from Lincoln CAMRA
X-WR-CALDESC:Events from Lincoln CAMRA
REFRESH-INTERVAL;VALUE=DURATION:PT1440M
X-PUBLISHED-TTL:PT1440M
BEGIN:VTIMEZONE
TZID:Europe/London
BEGIN:DAYLIGHT
DTSTART:20250330T010000Z
TZOFFSETFROM:+0000
TZOFFSETTO:+0100
END:DAYLIGHT
BEGIN:STANDARD
DTSTART:20251026T020000Z
TZOFFSETFROM:+0100
TZOFFSETTO:+0000
END:STANDARD
END:VTIMEZONE
BEGIN:VTIMEZONE
TZID:UTC
BEGIN:STANDARD
DTSTART:20250725T183416Z
TZOFFSETFROM:+0000
TZOFFSETTO:+0000
END:STANDARD
END:VTIMEZONE
BEGIN:VEVENT
UID:356-297
DTSTAMP:20260421T183416Z
SUMMARY:Peterborough CAMRA Beer Festival
LOCATION:The Embankment Embankment Road  Peterborough  PE1 1EF
ORGANIZER;CN=Bob:MAILTO:bob@bobfoulger.co.uk
DTSTART;TZID=Europe/London;VALUE=DATE:20250819
DTEND;TZID=Europe/London;VALUE=DATE:20250824
X-ALT-DESC;FMTTYPE=TEXT/HTML:
CATEGORIES:Beer Festivals
URL;VALUE=URI:https://lincoln.camra.org.uk/mc-events/peterborough-camra-bee
 r-festival-4/
METHOD:PUBLISH
END:VEVENT
END:VCALENDAR